BEGIN:VCALENDAR
VERSION:2.0
PRODID:-//Sec. Turismo de la Villa de Merlo - ECPv6.15.17.1//NONSGML v1.0//EN
CALSCALE:GREGORIAN
METHOD:PUBLISH
X-WR-CALNAME:Sec. Turismo de la Villa de Merlo
X-ORIGINAL-URL:https://villademerlo.tur.ar
X-WR-CALDESC:Eventos para Sec. Turismo de la Villa de Merlo
REFRESH-INTERVAL;VALUE=DURATION:PT1H
X-Robots-Tag:noindex
X-PUBLISHED-TTL:PT1H
BEGIN:VTIMEZONE
TZID:America/Argentina/San_Luis
BEGIN:STANDARD
TZOFFSETFROM:-0300
TZOFFSETTO:-0300
TZNAME:-03
DTSTART:20240101T000000
END:STANDARD
END:VTIMEZONE
BEGIN:VEVENT
DTSTART;TZID=America/Argentina/San_Luis:20250320T000000
DTEND;TZID=America/Argentina/San_Luis:20250402T235959
DTSTAMP:20260421T053605
CREATED:20250320T140634Z
LAST-MODIFIED:20250320T140635Z
UID:19323-1742428800-1743638399@villademerlo.tur.ar
SUMMARY:Expo Artes Visuales
DESCRIPTION:Este viernes 7 de marzo\, a las 20:00hs.\, en la Sala de Artes Visuales de @amigxsdemerlo se inaugura la Exposición Colectiva 8M2025 MUJER Y LIBERTAD\, donde mujeres y disidencias exhiben sus manifestaciones visuales\, objetos e instalaciones. \n\n\n\nLa entrada es libre y gratuita y se podrá recorrer y disfrutar hasta el miércoles 2 de abril. \n\n\n\nTe esperamos!!!
URL:https://villademerlo.tur.ar/eventos/expo-artes-visuales/
LOCATION:AmigxsdeMerlo\, Prebistero Becerra 542\, Villa de Merlo\, San Luis\, Argentina
CATEGORIES:arte,Institucional,Ocio,Turismo
ATTACH;FMTTYPE=image/jpeg:https://villademerlo.tur.ar/wp-content/uploads/2025/03/03-fija-1.jpg
END:VEVENT
BEGIN:VEVENT
DTSTART;TZID=America/Argentina/San_Luis:20250321T180000
DTEND;TZID=America/Argentina/San_Luis:20250321T180000
DTSTAMP:20260421T053605
CREATED:20250319T163159Z
LAST-MODIFIED:20250319T163200Z
UID:19258-1742580000-1742580000@villademerlo.tur.ar
SUMMARY:Mujeres de Merlo y la Región. Relatos\, Música y Danza
DESCRIPTION:MUJERES MERLINAS Y DE LA REGIÓN: RELATOS\, HISTORIA\, MÚSICA Y DANZA  \n\n\n\nViernes 21 de marzo | 18hs \n\n\n\nCasa Museo Palmira Scrosoppi \n\n\n\nUna jornada única para homenajear a las mujeres que dejaron su huella en la historia de Merlo y San Luis. A través de relatos\, música y danza\, recordaremos sus aportes culturales\, sociales y educativos. \n\n\n\n ¡Sumate a este encuentro especial y celebraremos juntas y juntos su legado!
URL:https://villademerlo.tur.ar/eventos/mujeres-de-merlo-y-la-region-relatos-musica-y-danza/
LOCATION:Casa Palmira\, Casa Museo Palmira Scrosoppi\, Merlo\, San Luis\, Argentina
CATEGORIES:arte,Estilo de Vida,Institucional,Ocio,Turismo
ATTACH;FMTTYPE=image/jpeg:https://villademerlo.tur.ar/wp-content/uploads/2025/03/03-21-p.jpeg
ORGANIZER;CN="Secretar%C3%ADa de Gesti%C3%B3n Cultural e Identidad Merlina":MAILTO:culturavillademerlo@gmail.com
END:VEVENT
BEGIN:VEVENT
DTSTART;TZID=America/Argentina/San_Luis:20250322T140000
DTEND;TZID=America/Argentina/San_Luis:20250322T140000
DTSTAMP:20260421T053605
CREATED:20250320T122936Z
LAST-MODIFIED:20250320T122938Z
UID:19292-1742652000-1742652000@villademerlo.tur.ar
SUMMARY:Srint Trail Nocturno
DESCRIPTION:¡Se viene la Sprint Trail Nocturna!  \n\n\n\nLes dejamos el cronograma oficial de la carrera . ¡Ya no queda nada\, estamos a solo días de vivir esta gran aventura! \n\n\n\n Fecha: 22 de Marzo \n\n\n\nLugar: Camping Municipal \n\n\n\n Horarios: A partir de las 14hs. \n\n\n\nNuevo Horario de Largada \n\n\n\nPrepárense para una noche llena de adrenalina\, desafío y naturaleza. ¡Nos vemos en la meta!
URL:https://villademerlo.tur.ar/eventos/srint-trail-nocturno/
LOCATION:Camping Municipal El Rincón\, Camping Municipal de Merlo\, Merlo\, San Luis\, Argentina
CATEGORIES:Actividad Nocturna,Estilo de Vida,Institucional,Ocio,Turismo
ATTACH;FMTTYPE=image/jpeg:https://villademerlo.tur.ar/wp-content/uploads/2025/03/03-22-tr.jpeg
ORGANIZER;CN="Secretar%C3%ADa de Gobierno y Deportes":MAILTO:deportes.mvm@gmail.com
END:VEVENT
BEGIN:VEVENT
DTSTART;TZID=America/Argentina/San_Luis:20250323T000000
DTEND;TZID=America/Argentina/San_Luis:20250331T235959
DTSTAMP:20260421T053605
CREATED:20250320T142052Z
LAST-MODIFIED:20250320T142054Z
UID:19326-1742688000-1743465599@villademerlo.tur.ar
SUMMARY:Horarios de la Santa Misa
DESCRIPTION:
URL:https://villademerlo.tur.ar/eventos/horarios-de-la-santa-misa/
LOCATION:San Luis
CATEGORIES:Estilo de Vida,Institucional
ATTACH;FMTTYPE=image/jpeg:https://villademerlo.tur.ar/wp-content/uploads/2025/03/03-m.jpeg
END:VEVENT
BEGIN:VEVENT
DTSTART;TZID=America/Argentina/San_Luis:20250323T190000
DTEND;TZID=America/Argentina/San_Luis:20250323T190000
DTSTAMP:20260421T053605
CREATED:20250320T130413Z
LAST-MODIFIED:20250320T130415Z
UID:19300-1742756400-1742756400@villademerlo.tur.ar
SUMMARY:Cine Debate\, "Pasante de Moda"
DESCRIPTION:El domingo 23 de marzo a las 19:00 hs en el ciclo de cine debate proyectaremos “Pasante de moda” de Nancy Meyers\, EE UU\, 2015. APM13. \n\n\n\nSinopsis: Comedia dramática basada en un jubilado de 70 años que decide ser becario en una empresa de venta de ropa por internet. Dirigida con un ritmo activo y con un estilo que mezcla con efectividad lo conmovedor con lo divertido\, es una obra entretenida que tiene algunas escenas jocosas y otras más emotivas que consiguen atrapar la atención del espectador con mucho oficio\, concluyendo una muy linda película\, que logra hacer pasar un buen rato a toda la familia y a los que tan solo quieran pasar un rato agradable viendo un cine competente y acertado. \n\n\n\nLuego de la proyección\, los organizadores\, miembros de la Asociación Civil “La Ventana” estarán a cargo del debate de la película. Conduce el debate: Ricardo Saporiti.La entrada es gratuita. \n\n\n\nContacto del artista/organizador: Daniel Maffía: 2355 575182
URL:https://villademerlo.tur.ar/eventos/cine-debate-pasante-de-moda/
LOCATION:Casa del Poeta Agüero\, Poeta Agüero 380
CATEGORIES:arte,Institucional,Ocio,Turismo
ATTACH;FMTTYPE=image/jpeg:https://villademerlo.tur.ar/wp-content/uploads/2025/03/03-23-p-scaled.jpg
END:VEVENT
END:VCALENDAR