BEGIN:VCALENDAR
VERSION:2.0
PRODID:-//Sec. Turismo de la Villa de Merlo - ECPv6.15.17.1//NONSGML v1.0//EN
CALSCALE:GREGORIAN
METHOD:PUBLISH
X-ORIGINAL-URL:https://villademerlo.tur.ar
X-WR-CALDESC:Eventos para Sec. Turismo de la Villa de Merlo
REFRESH-INTERVAL;VALUE=DURATION:PT1H
X-Robots-Tag:noindex
X-PUBLISHED-TTL:PT1H
BEGIN:VTIMEZONE
TZID:America/Argentina/San_Luis
BEGIN:STANDARD
TZOFFSETFROM:-0300
TZOFFSETTO:-0300
TZNAME:-03
DTSTART:20240101T000000
END:STANDARD
END:VTIMEZONE
BEGIN:VEVENT
DTSTART;TZID=America/Argentina/San_Luis:20250101T190000
DTEND;TZID=America/Argentina/San_Luis:20250101T190000
DTSTAMP:20260421T082854
CREATED:20241229T183419Z
LAST-MODIFIED:20241229T183420Z
UID:17842-1735758000-1735758000@villademerlo.tur.ar
SUMMARY:Cumpleaños 228 de la Villa de Merlo
DESCRIPTION:La Villa de Merlo cumple 228 años este 1° de enero de 2025. Con una celebración que combina tradición y cultura\, el Municipio invita a vecinos y visitantes a compartir una jornada especial para honrar nuestra identidad merlina.
URL:https://villademerlo.tur.ar/eventos/cumpleanos-228-de-la-villa-de-merlo/
LOCATION:Capilla Histórica Ntra Sra del Rosario\, Pbro. Becerra 731\, Merlo\, San Luis\, Argentina
CATEGORIES:Institucional
ATTACH;FMTTYPE=image/jpeg:https://villademerlo.tur.ar/wp-content/uploads/2024/12/471819492_1008895151279757_1849966961757890719_n.jpg
END:VEVENT
END:VCALENDAR