BEGIN:VCALENDAR
VERSION:2.0
PRODID:-//Sec. Turismo de la Villa de Merlo - ECPv6.15.17.1//NONSGML v1.0//EN
CALSCALE:GREGORIAN
METHOD:PUBLISH
X-WR-CALNAME:Sec. Turismo de la Villa de Merlo
X-ORIGINAL-URL:https://villademerlo.tur.ar
X-WR-CALDESC:Eventos para Sec. Turismo de la Villa de Merlo
REFRESH-INTERVAL;VALUE=DURATION:PT1H
X-Robots-Tag:noindex
X-PUBLISHED-TTL:PT1H
BEGIN:VTIMEZONE
TZID:America/Argentina/San_Luis
BEGIN:STANDARD
TZOFFSETFROM:-0300
TZOFFSETTO:-0300
TZNAME:-03
DTSTART:20230101T000000
END:STANDARD
END:VTIMEZONE
BEGIN:VEVENT
DTSTART;TZID=America/Argentina/San_Luis:20241012T103000
DTEND;TZID=America/Argentina/San_Luis:20241012T103000
DTSTAMP:20260421T134752
CREATED:20241003T121821Z
LAST-MODIFIED:20241003T121822Z
UID:16732-1728729000-1728729000@villademerlo.tur.ar
SUMMARY:¡IV ENCUENTRO DE SEMILLAS\, SABERES Y SABORES!
DESCRIPTION:¡IV ENCUENTRO DE SEMILLAS\, SABERES Y SABORES!  \n\n\n\nTe invitamos a ser parte de una jornada única en la Plaza Sobremonte\, el sábado 12 de octubre a las 10:30 hs.  \n\n\n\nDisfruta de: \n\n\n\nIntercambio de semillas y plantines \n\n\n\n Charlas y debates con expertos \n\n\n\n Cocina en vivo con recetas autóctonas \n\n\n\n Actividades especiales para los más pequeños \n\n\n\n¡Te esperamos!
URL:https://villademerlo.tur.ar/eventos/iv-encuentro-de-semillas-saberes-y-sabores/
LOCATION:Plaza Sobremonte\, Coronel Mercau 604\, Merlo\, San Luis\, Argentina
CATEGORIES:Estilo de Vida,Institucional
ATTACH;FMTTYPE=image/jpeg:https://villademerlo.tur.ar/wp-content/uploads/2024/10/461691930_942972501205356_945804223737038447_n.jpg
END:VEVENT
BEGIN:VEVENT
DTSTART;TZID=America/Argentina/San_Luis:20241023T000000
DTEND;TZID=America/Argentina/San_Luis:20241026T235959
DTSTAMP:20260421T134752
CREATED:20241024T122853Z
LAST-MODIFIED:20241024T122853Z
UID:17555-1729641600-1729987199@villademerlo.tur.ar
SUMMARY:10° Encuentro Anual Protierra Argentina
DESCRIPTION:Miércoles 23 y Viernes 25 – 09:00 hs: 10° Encuentro Anual Protierra Argentina \n\n\n\nLos días miércoles 23 y viernes 25 de octubre de 09:00 a 18:00 hs se llevará a cabo el 10° Encuentro Anual Protierra Argentina en la Casa del Poeta.Los días 24 y 26 las jornadas se presentarán en la Facultad de Turismo y Urbanismo. \n\n\n\nLa Red Protierra Argentina es una red nacional de integración y cooperación técnica y científica de ámbito nacional\, de carácter horizontal\, enfocada en el desarrollo responsable de la construcción con tierra en todas sus manifestaciones y aspectos. Está integrada por personas físicas dispersas en el país abocadas a la construcción con tierra y disciplinas afines. El objetivo de la Red es fomentar la promoción\, difusión y preservación de la construcción con tierra\, con acciones responsables y comprometidas solidariamente con lo social\, lo cultural y lo ambiental. Para cumplir su objetivo\, la Red actúa en distintos niveles de la enseñanza superior\, la formación profesional\, técnica y artesanal\, la investigación científica\, el asesoramiento legislativo\, el desarrollo local\, el intercambio de tecnologías y la difusión de saberes y prácticas culturales de todos los niveles. \n\n\n\nLos encuentros anuales de la Red Protierra Argentina\, tienen como objetivo propiciar el intercambio de conocimiento entre sus integrantes\, como así también fortalecer la vinculación con los territorios y sus instituciones. \n\n\n\nEl 10° Encuentro en la Villa de Merlo\, que cuenta con el aval de la Facultad de Turismo y Urbanismo de la Universidad Nacional de San Luis FTU-UNSL\, busca fortalecer la región de Cuyo en la temática de construcción con tierra y hábitat sostenible. De igual modo\, cuenta con el acompañamiento del Colegio de Arquitectos de la Provincia de San Luis CASL\, la Federación Argentina de Entidades de Arquitectos FADEA\, la Red Iberoamericana PROTERRA y el Colegio de Arquitectos de la Provincia de Córdoba\, con su Instituto de Arquitectura Sustentable. \n\n\n\nCronograma completo: www.redprotierra.com.ar \n\n\n\nLink de inscripción: https://docs.google.com/forms/d/e/1FAIpQLSeyTmzpcR-QqhCxz2X1DClJEPnONvBwqi6FyYaRBDfepWsZbQ/viewform
URL:https://villademerlo.tur.ar/eventos/10-encuentro-anual-protierra-argentina/
LOCATION:Casa del Poeta Agüero\, Poeta Agüero 380
CATEGORIES:Institucional
ATTACH;FMTTYPE=image/jpeg:https://villademerlo.tur.ar/wp-content/uploads/2024/10/WhatsApp-Image-2024-10-23-at-10.09.37.jpeg
END:VEVENT
BEGIN:VEVENT
DTSTART;TZID=America/Argentina/San_Luis:20241031T190000
DTEND;TZID=America/Argentina/San_Luis:20241031T190000
DTSTAMP:20260421T134752
CREATED:20241024T124916Z
LAST-MODIFIED:20241024T125254Z
UID:17568-1730401200-1730401200@villademerlo.tur.ar
SUMMARY:Presentación del libro "Revelaciones"
DESCRIPTION:El jueves 31 de octubre a las 19:00 hs se presenta el libro “Revelaciones” de Mirta Froschauer.La autora presentará su primer libro\, de autoayuda\, meditación y desarrollo personal.Habrá también una ejercitación de meditación\, con las distintas técnicas que hoy nos brinda la ciencia para el equilibrio cuerpo-mente y distintas herramientas que nos llevan a un autoconocimiento y etapa del desarrollo personal\, incluido el necesario contacto con la naturaleza. \n\n\n\nLa entrada es gratuita.
URL:https://villademerlo.tur.ar/eventos/presentacion-del-libro-revelaciones/
LOCATION:Casa del Poeta Agüero\, Poeta Agüero 380
CATEGORIES:arte,Institucional
ATTACH;FMTTYPE=image/jpeg:https://villademerlo.tur.ar/wp-content/uploads/2024/10/WhatsApp-Image-2024-10-23-at-10.11.57.jpeg
END:VEVENT
END:VCALENDAR