BEGIN:VCALENDAR
VERSION:2.0
PRODID:-//Sec. Turismo de la Villa de Merlo - ECPv6.15.17.1//NONSGML v1.0//EN
CALSCALE:GREGORIAN
METHOD:PUBLISH
X-ORIGINAL-URL:https://villademerlo.tur.ar
X-WR-CALDESC:Eventos para Sec. Turismo de la Villa de Merlo
REFRESH-INTERVAL;VALUE=DURATION:PT1H
X-Robots-Tag:noindex
X-PUBLISHED-TTL:PT1H
BEGIN:VTIMEZONE
TZID:America/Argentina/San_Luis
BEGIN:STANDARD
TZOFFSETFROM:-0300
TZOFFSETTO:-0300
TZNAME:-03
DTSTART:20230101T000000
END:STANDARD
END:VTIMEZONE
BEGIN:VEVENT
DTSTART;TZID=America/Argentina/San_Luis:20240904T160000
DTEND;TZID=America/Argentina/San_Luis:20240904T160000
DTSTAMP:20260421T153526
CREATED:20240904T161553Z
LAST-MODIFIED:20240904T161554Z
UID:16402-1725465600-1725465600@villademerlo.tur.ar
SUMMARY:El Paisaje mas Soñado
DESCRIPTION:EL PAISAJE MAS SOÑADOHomenaje a Gustavo CeratiA 10 años de su fallecimiento \n\n\n\n4 de septiembre 16 hs.En el Mirador del Tala Caído \n\n\n\nMás de 30 músicos en escenaInterpretarán “Lago en el cielo”El último tema que\, sin saberlo\, Cerati tocó en vida \n\n\n\nInvitada especial: Marian Pellegrino \n\n\n\nOrganiza:Vamos las Bandas \n\n\n\nAuspicia:Villa de MerloSecretaría de TurismoVorterix San Luis
URL:https://villademerlo.tur.ar/eventos/el-paisaje-mas-sonado/
LOCATION:Mirador del Tala Caido\, Mirador Tala Caído\, Merlo\, San Luis\, Argentina
CATEGORIES:arte,Institucional,Ocio
ATTACH;FMTTYPE=image/jpeg:https://villademerlo.tur.ar/wp-content/uploads/2024/09/WhatsApp-Image-2024-09-04-at-07.36.55.jpeg
END:VEVENT
END:VCALENDAR